BEGIN:VCALENDAR
VERSION:2.0
PRODID:-//hacksw/handcal//NONSGML v1.0//EN
CALSCALE:GREGORIAN
BEGIN:VTIMEZONE
TZID:W. Europe Standard Time
BEGIN:STANDARD
DTSTART:16010101T030000
TZOFFSETFROM:+0200
TZOFFSETTO:+0100
RRULE:FREQ=YEARLY;INTERVAL=1;BYDAY=-1SU;BYMONTH=10
END:STANDARD
BEGIN:DAYLIGHT
DTSTART:16010101T020000
TZOFFSETFROM:+0100
TZOFFSETTO:+0200
RRULE:FREQ=YEARLY;INTERVAL=1;BYDAY=-1SU;BYMONTH=3
END:DAYLIGHT
END:VTIMEZONE
BEGIN:VEVENT
DTEND;TZID=W. Europe Standard Time:20190514T163000
UID:69e7aac00f1de
DTSTAMP:20260421T165008Z
LOCATION:Dome of Visions\, Lindholmsplatsen\, Göteborg
DESCRIPTION:Välkommen till Lean Forum Byggs årsmöte som denna gång geno
 mförs i Dome of Visions vid Chalmers Lindholmen i Göteborg.
 
URL;VALUE=URI:https://www.leanforumbygg.se/aktiviteter/arsmote-2019/
SUMMARY:Årsmöte 2019
DTSTART;TZID=W. Europe Standard Time:20190514T140000
END:VEVENT
END:VCALENDAR
