BEGIN:VCALENDAR
VERSION:2.0
PRODID:-//hacksw/handcal//NONSGML v1.0//EN
CALSCALE:GREGORIAN
BEGIN:VTIMEZONE
TZID:W. Europe Standard Time
BEGIN:STANDARD
DTSTART:16010101T030000
TZOFFSETFROM:+0200
TZOFFSETTO:+0100
RRULE:FREQ=YEARLY;INTERVAL=1;BYDAY=-1SU;BYMONTH=10
END:STANDARD
BEGIN:DAYLIGHT
DTSTART:16010101T020000
TZOFFSETFROM:+0100
TZOFFSETTO:+0200
RRULE:FREQ=YEARLY;INTERVAL=1;BYDAY=-1SU;BYMONTH=3
END:DAYLIGHT
END:VTIMEZONE
BEGIN:VEVENT
DTEND;TZID=W. Europe Standard Time:20180412T110000
UID:69e765c2e7e66
DTSTAMP:20260421T115546Z
LOCATION:Nya barnsjukhuset\, Östra sjukhuset i Göteborg\, NCC:s bodetablering
DESCRIPTION:Välkommen till ett seminarium där vi möter företaget Ytterb
 ygg\, vinnare av Årets Lean-byggare 2012. NCC berättar om hur visuell pl
 anering har använts av de olika aktörer som är inblandade i uppförande
 t av Nya Barnsjukhuset i Göteborg.
 
URL;VALUE=URI:https://www.leanforumbygg.se/aktiviteter/vinnande-lean-arbete
 -och-visuell-planering/
SUMMARY:Vinnande Lean-arbete och visuell planering
DTSTART;TZID=W. Europe Standard Time:20180412T090000
END:VEVENT
END:VCALENDAR
